BEGIN:VCALENDAR
VERSION:2.0
PRODID:-//Jazzclub Leipzig e.V. //NONSGML Events //EN
CALSCALE:GREGORIAN
X-WR-CALNAME:Jazzclub Leipzig e.V.
BEGIN:VEVENT
X-CREATED:20240522T092433Z
UID:32554
DTEND;VALUE=DATE:20240606T190000
DTSTART;VALUE=DATE:20240606T170000
DTSTAMP:20260425T000323Z
LOCATION:Leipzig
DESCRIPTION:Neue Ausgabe des alljährlichen Bachfestes. Dieses Jahr stehen die choralen Werke Bachs im Zentrum des Festivalprogramms: 30 Bach-Chöre aus nahezu allen Kontinenten beleuchten mit ihren vielfältigen Programmen einen mitunter unterschätzten […]
SUMMARY:Bachfest CHORal Total (6.-7.6.)
ORGANIZER:Jazzclub Leipzig e.V.
URL;VALUE=URI:https://www.jazzclub-leipzig.de/kategorie-jazzkalender/bachfest-choral-total-6-7-6/
TRANSP:OPAQUE
BEGIN:VALARM
ACTION:DISPLAY
TRIGGER;VALUE=DATE-TIME:20240606T160000Z
DESCRIPTION:Erinnerung an Bachfest CHORal Total (6.-7.6.)
END:VALARM
END:VEVENT
END:VCALENDAR
