BEGIN:VCALENDAR
VERSION:2.0
PRODID:-//Jazzclub Leipzig e.V. //NONSGML Events //EN
CALSCALE:GREGORIAN
X-WR-CALNAME:Jazzclub Leipzig e.V.
BEGIN:VEVENT
X-CREATED:20240522T090615Z
UID:32541
DTEND;VALUE=DATE:20240602T170000
DTSTART;VALUE=DATE:20240602T150000
DTSTAMP:20260425T002501Z
LOCATION:UT Connewitz
DESCRIPTION:Der MDR-Kinderchor wird bei die- sem schaurig-schönen Programm von einem außergewöhnlichen Instrumentarium begleitet und braucht stimmliche Unterstützung des Publikums – damit es so richtig gruselig wird! Ein Konzert für die […]
SUMMARY:MDR Kinderchor – Grusel im Turm
ORGANIZER:Jazzclub Leipzig e.V.
URL;VALUE=URI:https://www.jazzclub-leipzig.de/kategorie-jazzkalender/mdr-kinderchor-grusel-im-turm/
TRANSP:OPAQUE
BEGIN:VALARM
ACTION:DISPLAY
TRIGGER;VALUE=DATE-TIME:20240602T140000Z
DESCRIPTION:Erinnerung an MDR Kinderchor &#8211\; Grusel im Turm
END:VALARM
END:VEVENT
END:VCALENDAR
