BEGIN:VCALENDAR
VERSION:2.0
PRODID:-//Jazzclub Leipzig e.V. //NONSGML Events //EN
CALSCALE:GREGORIAN
X-WR-CALNAME:Jazzclub Leipzig e.V.
BEGIN:VEVENT
X-CREATED:20240522T090427Z
UID:32538
DTEND;VALUE=DATE:20240601T220000
DTSTART;VALUE=DATE:20240601T200000
DTSTAMP:20260425T002903Z
LOCATION:die naTo
DESCRIPTION:Ein Zusammentreffen der besonderen Art: Das acht-köpfige Ton- Kollektiv präsentiert ein Programm, das vom Great American Songbook gleichermaßen geprägt ist wie von zeitgenössischen poppigen Grooves. Das Gerschkovich-Trio vermengt Elemente aus […]
SUMMARY:Ton-Kollektiv & Gerschkovich-Trio
ORGANIZER:Jazzclub Leipzig e.V.
URL;VALUE=URI:https://www.jazzclub-leipzig.de/kategorie-jazzkalender/ton-kollektiv-gerschkovich-trio/
TRANSP:OPAQUE
BEGIN:VALARM
ACTION:DISPLAY
TRIGGER;VALUE=DATE-TIME:20240601T190000Z
DESCRIPTION:Erinnerung an Ton-Kollektiv &amp\; Gerschkovich-Trio
END:VALARM
END:VEVENT
END:VCALENDAR
