BEGIN:VCALENDAR
VERSION:2.0
PRODID:-//Jazzclub Leipzig e.V. //NONSGML Events //EN
CALSCALE:GREGORIAN
X-WR-CALNAME:Jazzclub Leipzig e.V.
BEGIN:VEVENT
X-CREATED:20240522T085616Z
UID:32532
DTEND;VALUE=DATE:20240530T190000
DTSTART;VALUE=DATE:20240530T170000
DTSTAMP:20260425T004808Z
LOCATION:Marktplatz
DESCRIPTION:Auch in diesem Jahr präsentiert die Stadt auf dem Marktplatz ein buntes Rahmenprogramm für Jung und Alt. Mit dabei sind u.a. Anaïs, Marquess, Valexus, Mr. Rod u.v.m. · Eintritt frei
SUMMARY:Leipziger Stadtfest (30.5.-2.6.)
ORGANIZER:Jazzclub Leipzig e.V.
URL;VALUE=URI:https://www.jazzclub-leipzig.de/kategorie-jazzkalender/leipziger-stadtfest-30-5-2-6/
TRANSP:OPAQUE
BEGIN:VALARM
ACTION:DISPLAY
TRIGGER;VALUE=DATE-TIME:20240530T160000Z
DESCRIPTION:Erinnerung an Leipziger Stadtfest (30.5.-2.6.)
END:VALARM
END:VEVENT
END:VCALENDAR
