BEGIN:VCALENDAR
VERSION:2.0
PRODID:-//Jazzclub Leipzig e.V. //NONSGML Events //EN
CALSCALE:GREGORIAN
X-WR-CALNAME:Jazzclub Leipzig e.V.
BEGIN:VEVENT
X-CREATED:20240429T141735Z
UID:32505
DTEND;VALUE=DATE:20240529T220000
DTSTART;VALUE=DATE:20240529T200000
DTSTAMP:20260425T005132Z
LOCATION:UT Connewitz
DESCRIPTION:Meret Becker ist längst zu einem prägenden Gesicht des zeitgenössischen deutschsprachigen Films geworden. Doch seit vielen Jahren ist die Schau- spielerin auch eine gefragte Musikerin. Mit ihrem neuen Programm »Le […]
SUMMARY:Meret & The Tiny Teeth (29./30.5.)
ORGANIZER:Jazzclub Leipzig e.V.
URL;VALUE=URI:https://www.jazzclub-leipzig.de/kategorie-jazzkalender/meret-the-tiny-teeth-29-30-5/
TRANSP:OPAQUE
BEGIN:VALARM
ACTION:DISPLAY
TRIGGER;VALUE=DATE-TIME:20240529T190000Z
DESCRIPTION:Erinnerung an Meret &amp\; The Tiny Teeth (29./30.5.)
END:VALARM
END:VEVENT
END:VCALENDAR
