BEGIN:VCALENDAR
VERSION:2.0
PRODID:-//Jazzclub Leipzig e.V. //NONSGML Events //EN
CALSCALE:GREGORIAN
X-WR-CALNAME:Jazzclub Leipzig e.V.
BEGIN:VEVENT
X-CREATED:20240429T141616Z
UID:32502
DTEND;VALUE=DATE:20240529T220000
DTSTART;VALUE=DATE:20240529T200000
DTSTAMP:20260425T000755Z
LOCATION:Horns Erben
DESCRIPTION:Garantiert Rhythmus-orientiert geht es an diesem Abend zu: Erst werden Infusion Funkgrooves mit Jazz-Einlagen präsentieren, bevor Barracuda mit Interpretationen berühmter Rockklassiker von Led Zeppelin bis Queens Of The Stone Age […]
SUMMARY:Infusion / Barracuda
ORGANIZER:Jazzclub Leipzig e.V.
URL;VALUE=URI:https://www.jazzclub-leipzig.de/kategorie-jazzkalender/infusion-barracuda/
TRANSP:OPAQUE
BEGIN:VALARM
ACTION:DISPLAY
TRIGGER;VALUE=DATE-TIME:20240529T190000Z
DESCRIPTION:Erinnerung an Infusion / Barracuda
END:VALARM
END:VEVENT
END:VCALENDAR
