BEGIN:VCALENDAR
VERSION:2.0
PRODID:-//Jazzclub Leipzig e.V. //NONSGML Events //EN
CALSCALE:GREGORIAN
X-WR-CALNAME:Jazzclub Leipzig e.V.
BEGIN:VEVENT
X-CREATED:20240429T141027Z
UID:32490
DTEND;VALUE=DATE:20240526T193000
DTSTART;VALUE=DATE:20240526T173000
DTSTAMP:20260425T020146Z
LOCATION:Trafo (Jena)
DESCRIPTION:Das Album »Ulaan« der Sängerin Enji wurde 2023 von der New York Times als »Album des Jahres« gekrönt. Ihre Texte handeln von Träumen, Sehnsucht und der Bedeutung scheinbar bedeutungsloser Momente, […]
SUMMARY:Enji
ORGANIZER:Jazzclub Leipzig e.V.
URL;VALUE=URI:https://www.jazzclub-leipzig.de/kategorie-jazzkalender/enji/
TRANSP:OPAQUE
BEGIN:VALARM
ACTION:DISPLAY
TRIGGER;VALUE=DATE-TIME:20240526T163000Z
DESCRIPTION:Erinnerung an Enji
END:VALARM
END:VEVENT
END:VCALENDAR
