BEGIN:VCALENDAR
VERSION:2.0
PRODID:-//Jazzclub Leipzig e.V. //NONSGML Events //EN
CALSCALE:GREGORIAN
X-WR-CALNAME:Jazzclub Leipzig e.V.
BEGIN:VEVENT
X-CREATED:20240429T135645Z
UID:32484
DTEND;VALUE=DATE:20240522T220000
DTSTART;VALUE=DATE:20240522T200000
DTSTAMP:20260422T105943Z
LOCATION:Jazzclub Tonne (Dresden)
DESCRIPTION:Die Stimme von Amirtha Kidamni ist von einer kaum fassbaren Ausdrucksvielfalt. Ihre Texte handeln von der US- amerikanischen Gegenwart, die für viele Menschen noch immer eine von Gewalt und Rassismus […]
SUMMARY:Amirtha Kidamni Elder Ones
ORGANIZER:Jazzclub Leipzig e.V.
URL;VALUE=URI:https://www.jazzclub-leipzig.de/kategorie-jazzkalender/amirtha-kidamni-elder-ones/
TRANSP:OPAQUE
BEGIN:VALARM
ACTION:DISPLAY
TRIGGER;VALUE=DATE-TIME:20240522T190000Z
DESCRIPTION:Erinnerung an Amirtha Kidamni Elder Ones
END:VALARM
END:VEVENT
END:VCALENDAR
