BEGIN:VCALENDAR
VERSION:2.0
PRODID:-//Jazzclub Leipzig e.V. //NONSGML Events //EN
CALSCALE:GREGORIAN
X-WR-CALNAME:Jazzclub Leipzig e.V.
BEGIN:VEVENT
X-CREATED:20240429T135545Z
UID:32481
DTEND;VALUE=DATE:20240521T220000
DTSTART;VALUE=DATE:20240521T200000
DTSTAMP:20260425T022555Z
LOCATION:Horns Erben
DESCRIPTION:Jonah Roth präsentiert an diesem Abend ein buntes Potpourri aus Eigenkompositionen, das in seiner Studienzeit an der HMT Leipzig komponiert und einstudiert wurde. Musikalisch bewegt Roth sich mit seiner Band […]
SUMMARY:Jonah Roth Electric Band – Abschlusskonzert HMT Leipzig Jazz- Gitarre 
ORGANIZER:Jazzclub Leipzig e.V.
URL;VALUE=URI:https://www.jazzclub-leipzig.de/kategorie-jazzkalender/jonah-roth-electric-band-abschlusskonzert-hmt-leipzig-jazz-gitarre/
TRANSP:OPAQUE
BEGIN:VALARM
ACTION:DISPLAY
TRIGGER;VALUE=DATE-TIME:20240521T190000Z
DESCRIPTION:Erinnerung an Jonah Roth Electric Band – Abschlusskonzert HMT Leipzig Jazz- Gitarre 
END:VALARM
END:VEVENT
END:VCALENDAR
