BEGIN:VCALENDAR
VERSION:2.0
PRODID:-//Jazzclub Leipzig e.V. //NONSGML Events //EN
CALSCALE:GREGORIAN
X-WR-CALNAME:Jazzclub Leipzig e.V.
BEGIN:VEVENT
X-CREATED:20240429T135122Z
UID:32467
DTEND;VALUE=DATE:20240518T223000
DTSTART;VALUE=DATE:20240518T203000
DTSTAMP:20260425T015702Z
LOCATION:die naTo
DESCRIPTION:An zwei Abenden hintereinander präsentiert die Posaunistin und Komponistin Antonia Hausmann Stücke aus ihrem Debütalbum »Teleidoscope« so- wie bislang unveröffentlichte Songs. Diese wurden von Johannes Moritz neu arrangiert, sodass sie […]
SUMMARY:Spielvereinigung Sued feat. Antonia Hausmann (18./19.5.)
ORGANIZER:Jazzclub Leipzig e.V.
URL;VALUE=URI:https://www.jazzclub-leipzig.de/kategorie-jazzkalender/spielvereinigung-sued-feat-anto-nia-hausmann-18-19-5/
TRANSP:OPAQUE
BEGIN:VALARM
ACTION:DISPLAY
TRIGGER;VALUE=DATE-TIME:20240518T193000Z
DESCRIPTION:Erinnerung an Spielvereinigung Sued feat. Antonia Hausmann (18./19.5.)
END:VALARM
END:VEVENT
END:VCALENDAR
