BEGIN:VCALENDAR
VERSION:2.0
PRODID:-//Jazzclub Leipzig e.V. //NONSGML Events //EN
CALSCALE:GREGORIAN
X-WR-CALNAME:Jazzclub Leipzig e.V.
BEGIN:VEVENT
X-CREATED:20240429T134912Z
UID:32464
DTEND;VALUE=DATE:20240517T170000
DTSTART;VALUE=DATE:20240517T150000
DTSTAMP:20260425T015626Z
LOCATION:Moers
DESCRIPTION:Den Organisator*innen zufolge ist ein Festival für „Musik, Besinnung, Politik“. Mit Acts wie Antumbra, Alexey Kruglov & Karina Koshevnikova und BlipVert sollen „Mainstream und Rüstungsindustrie“ bekämpft werden · VVK Festivalticket […]
SUMMARY:53. Moers Festival (17.-20.5.) 
ORGANIZER:Jazzclub Leipzig e.V.
URL;VALUE=URI:https://www.jazzclub-leipzig.de/kategorie-jazzkalender/53-moers-festival-17-20-5/
TRANSP:OPAQUE
BEGIN:VALARM
ACTION:DISPLAY
TRIGGER;VALUE=DATE-TIME:20240517T140000Z
DESCRIPTION:Erinnerung an 53. Moers Festival (17.-20.5.) 
END:VALARM
END:VEVENT
END:VCALENDAR
