BEGIN:VCALENDAR
VERSION:2.0
PRODID:-//Jazzclub Leipzig e.V. //NONSGML Events //EN
CALSCALE:GREGORIAN
X-WR-CALNAME:Jazzclub Leipzig e.V.
BEGIN:VEVENT
X-CREATED:20240429T134719Z
UID:32463
DTEND;VALUE=DATE:20240517T020000
DTSTART;VALUE=DATE:20240517T000000
DTSTAMP:20260425T015626Z
LOCATION:Leipzig
DESCRIPTION:Gänzlich unjazzig geht es auch dieses Jahr beim Leipziger Wave-Gotik-Treffen – kurz WGT – zu: An vier Tagen wird ein buntes Potpourri aus schwarzen Schattierungen präsentiert – mal matt, mal […]
SUMMARY:Wave-Gotik-Treffen (WGT) (17.-20.5.)
ORGANIZER:Jazzclub Leipzig e.V.
URL;VALUE=URI:https://www.jazzclub-leipzig.de/kategorie-jazzkalender/wave-gotik-treffen-wgt-17-20-5/
TRANSP:OPAQUE
BEGIN:VALARM
ACTION:DISPLAY
TRIGGER;VALUE=DATE-TIME:20240516T230000Z
DESCRIPTION:Erinnerung an Wave-Gotik-Treffen (WGT) (17.-20.5.)
END:VALARM
END:VEVENT
END:VCALENDAR
