BEGIN:VCALENDAR
VERSION:2.0
PRODID:-//Jazzclub Leipzig e.V. //NONSGML Events //EN
CALSCALE:GREGORIAN
X-WR-CALNAME:Jazzclub Leipzig e.V.
BEGIN:VEVENT
X-CREATED:20240429T134255Z
UID:32457
DTEND;VALUE=DATE:20240514T220000
DTSTART;VALUE=DATE:20240514T200000
DTSTAMP:20260425T040653Z
LOCATION:Horns Erben
DESCRIPTION:Gleichermaßen energiegeladen wie intim geht es zu, wenn das Duo um Jazzsängerin Lucy Woodward die Bühne betritt und Songs aus dem Fundus von Größen wie John Lennon oder Nina Simone […]
SUMMARY:The Guests (feat. Lucy Woodward & Henry Hey) 
ORGANIZER:Jazzclub Leipzig e.V.
URL;VALUE=URI:https://www.jazzclub-leipzig.de/kategorie-jazzkalender/the-guests-feat-lucy-woodward-henry-hey/
TRANSP:OPAQUE
BEGIN:VALARM
ACTION:DISPLAY
TRIGGER;VALUE=DATE-TIME:20240514T190000Z
DESCRIPTION:Erinnerung an The Guests (feat. Lucy Woodward &amp\; Henry Hey) 
END:VALARM
END:VEVENT
END:VCALENDAR
