BEGIN:VCALENDAR
VERSION:2.0
PRODID:-//Jazzclub Leipzig e.V. //NONSGML Events //EN
CALSCALE:GREGORIAN
X-WR-CALNAME:Jazzclub Leipzig e.V.
BEGIN:VEVENT
X-CREATED:20240429T134138Z
UID:32454
DTEND;VALUE=DATE:20240514T203000
DTSTART;VALUE=DATE:20240514T183000
DTSTAMP:20260425T020208Z
LOCATION:Schaubühne Lindenfels
DESCRIPTION:Der renommierte Dirigent Alexander Schmitt, der virtuose Schlagzeuger Hannes Malkowski und der einfallsreiche Pianist Jonas Timm präsentieren das Klanglabor des MDR-Kinderchores. Traditionelle Melodien verweben sich mit modernen Elementen zu einem […]
SUMMARY:Klanglabor – Musik neu erleben (14.-15.5.)
ORGANIZER:Jazzclub Leipzig e.V.
URL;VALUE=URI:https://www.jazzclub-leipzig.de/kategorie-jazzkalender/klanglabor-musik-neu-erleben-14-15-5/
TRANSP:OPAQUE
BEGIN:VALARM
ACTION:DISPLAY
TRIGGER;VALUE=DATE-TIME:20240514T173000Z
DESCRIPTION:Erinnerung an Klanglabor – Musik neu erleben (14.-15.5.)
END:VALARM
END:VEVENT
END:VCALENDAR
