BEGIN:VCALENDAR
VERSION:2.0
PRODID:-//Jazzclub Leipzig e.V. //NONSGML Events //EN
CALSCALE:GREGORIAN
X-WR-CALNAME:Jazzclub Leipzig e.V.
BEGIN:VEVENT
X-CREATED:20240429T133738Z
UID:32447
DTEND;VALUE=DATE:20240512T200000
DTSTART;VALUE=DATE:20240512T180000
DTSTAMP:20260425T021639Z
LOCATION:WUK Theater Quartier Halle (Saale)
DESCRIPTION:Für den vierten Teil der Veranstaltungsreihe präsentieren die Tänzer*innen und Musiker*innen Caroline Beach und Noah Punk »Two Hands in the Sun«. Auf dem schmalen Grat zwischen Ehrgeiz und Ausgeglichenheit kämpfen […]
SUMMARY:Forum Grenzgänge pt. 4: Caroline Beach & Noah Punkt – #prinziphoffnung
ORGANIZER:Jazzclub Leipzig e.V.
URL;VALUE=URI:https://www.jazzclub-leipzig.de/kategorie-jazzkalender/forum-grenzgaenge-pt-4-caroline-beach-noah-punkt-prinzi-phoffnung/
TRANSP:OPAQUE
BEGIN:VALARM
ACTION:DISPLAY
TRIGGER;VALUE=DATE-TIME:20240512T170000Z
DESCRIPTION:Erinnerung an Forum Grenzgänge pt. 4: Caroline Beach &amp\; Noah Punkt &#8211\; #prinziphoffnung
END:VALARM
END:VEVENT
END:VCALENDAR
