BEGIN:VCALENDAR
VERSION:2.0
PRODID:-//Jazzclub Leipzig e.V. //NONSGML Events //EN
CALSCALE:GREGORIAN
X-WR-CALNAME:Jazzclub Leipzig e.V.
BEGIN:VEVENT
X-CREATED:20240429T132753Z
UID:32441
DTEND;VALUE=DATE:20240509T220000
DTSTART;VALUE=DATE:20240509T200000
DTSTAMP:20260425T020134Z
LOCATION:Blech Raum für Kunst\, Halle
DESCRIPTION:»Play« ist eine Komposition in Form von 100 Spielkarten. Diese enthalten Spielanweisungen, die von den Spielenden unabhängig interpretiert und umgesetzt werden. Im Spannungsfeld zwischen Individualität und Gemeinschaftssinn entsteht so ein […]
SUMMARY:Hannes Lingens »Play« – CD-Release Konzert
ORGANIZER:Jazzclub Leipzig e.V.
URL;VALUE=URI:https://www.jazzclub-leipzig.de/kategorie-jazzkalender/hannes-lingens-play-cd-release-konzert/
TRANSP:OPAQUE
BEGIN:VALARM
ACTION:DISPLAY
TRIGGER;VALUE=DATE-TIME:20240509T190000Z
DESCRIPTION:Erinnerung an Hannes Lingens »Play« &#8211\; CD-Release Konzert
END:VALARM
END:VEVENT
END:VCALENDAR
