BEGIN:VCALENDAR
VERSION:2.0
PRODID:-//Jazzclub Leipzig e.V. //NONSGML Events //EN
CALSCALE:GREGORIAN
X-WR-CALNAME:Jazzclub Leipzig e.V.
BEGIN:VEVENT
X-CREATED:20240429T132540Z
UID:32438
DTEND;VALUE=DATE:20240508T220000
DTSTART;VALUE=DATE:20240508T200000
DTSTAMP:20260425T021910Z
LOCATION:Dudelange\, Luxemburg
DESCRIPTION:Im beschaulichen Dudelange (dt. Düdelingen) findet in diesem Jahr wieder das pulsierende Jazz-Festival statt. Mit hochkarätigen Acts wie Regis Molina, Curtis Stigers oder dem Sun-Mi Hong Quintet wird das luxemburgische […]
SUMMARY:Like a Jazz Machine – International Jazz Festival Dudelange (8.-12.5.)
ORGANIZER:Jazzclub Leipzig e.V.
URL;VALUE=URI:https://www.jazzclub-leipzig.de/kategorie-jazzkalender/like-a-jazz-machine-international-jazz-festival-dudelange-8-12-5/
TRANSP:OPAQUE
BEGIN:VALARM
ACTION:DISPLAY
TRIGGER;VALUE=DATE-TIME:20240508T190000Z
DESCRIPTION:Erinnerung an Like a Jazz Machine &#8211\; International Jazz Festival Dudelange (8.-12.5.)
END:VALARM
END:VEVENT
END:VCALENDAR
