BEGIN:VCALENDAR
VERSION:2.0
PRODID:-//Jazzclub Leipzig e.V. //NONSGML Events //EN
CALSCALE:GREGORIAN
X-WR-CALNAME:Jazzclub Leipzig e.V.
BEGIN:VEVENT
X-CREATED:20240429T131209Z
UID:32426
DTEND;VALUE=DATE:20240506T230000
DTSTART;VALUE=DATE:20240506T210000
DTSTAMP:20260425T020208Z
LOCATION:Berlin
DESCRIPTION:Seit mittlerweile zehn Jahren präsentiert das XJAZZ renommierte Künstler der Szene auf der Höhe ihrer Zeit. Längst hat es sich zum größten Festival der Stadt entwickelt. In diesem Jahr dabei […]
SUMMARY:XJAZZ! (6.-12.5.)
ORGANIZER:Jazzclub Leipzig e.V.
URL;VALUE=URI:https://www.jazzclub-leipzig.de/kategorie-jazzkalender/xjazz-6-12-5/
TRANSP:OPAQUE
BEGIN:VALARM
ACTION:DISPLAY
TRIGGER;VALUE=DATE-TIME:20240506T200000Z
DESCRIPTION:Erinnerung an XJAZZ! (6.-12.5.)
END:VALARM
END:VEVENT
END:VCALENDAR
