BEGIN:VCALENDAR
VERSION:2.0
PRODID:-//Jazzclub Leipzig e.V. //NONSGML Events //EN
CALSCALE:GREGORIAN
X-WR-CALNAME:Jazzclub Leipzig e.V.
BEGIN:VEVENT
X-CREATED:20240429T130708Z
UID:32420
DTEND;VALUE=DATE:20240504T223000
DTSTART;VALUE=DATE:20240504T203000
DTSTAMP:20260425T015704Z
LOCATION:UT Connewitz
DESCRIPTION:In der hiesigen Jazzszene ist Philipp Rumsch schon lange kein Unbekannter mehr. Studiert hat der Pianist an der HMT bei Michael Wollny und Richie Beirach, 2018 erhielt er den Leipziger Jazznachwuchspreis.
SUMMARY:Ensemble Ambidexter & Philipp Rumsch Ensemble 
ORGANIZER:Jazzclub Leipzig e.V.
URL;VALUE=URI:https://www.jazzclub-leipzig.de/kategorie-jazzkalender/ensemble-ambidexter-philipp-rumsch-ensemble/
TRANSP:OPAQUE
BEGIN:VALARM
ACTION:DISPLAY
TRIGGER;VALUE=DATE-TIME:20240504T193000Z
DESCRIPTION:Erinnerung an Ensemble Ambidexter &amp\; Philipp Rumsch Ensemble 
END:VALARM
END:VEVENT
END:VCALENDAR
