BEGIN:VCALENDAR
VERSION:2.0
PRODID:-//Jazzclub Leipzig e.V. //NONSGML Events //EN
CALSCALE:GREGORIAN
X-WR-CALNAME:Jazzclub Leipzig e.V.
BEGIN:VEVENT
X-CREATED:20240429T125323Z
UID:32414
DTEND;VALUE=DATE:20240504T220000
DTSTART;VALUE=DATE:20240504T200000
DTSTAMP:20260425T034948Z
LOCATION:Mediencampus Villa Ida
DESCRIPTION:»Célébration«, das neue Programm des Quartetts, greift wichtige historische Ereignisse auf, die der Welt das Gefühl von Freiheit und Hoffnung gaben, wie u.a. die Allgemeine Erklärung der Menschenrechte, die Abschaffung […]
SUMMARY:Texier-Marguet 4tet
ORGANIZER:Jazzclub Leipzig e.V.
URL;VALUE=URI:https://www.jazzclub-leipzig.de/kategorie-jazzkalender/texier-marguet-4tet/
TRANSP:OPAQUE
BEGIN:VALARM
ACTION:DISPLAY
TRIGGER;VALUE=DATE-TIME:20240504T190000Z
DESCRIPTION:Erinnerung an Texier-Marguet 4tet
END:VALARM
END:VEVENT
END:VCALENDAR
