BEGIN:VCALENDAR
VERSION:2.0
PRODID:-//Jazzclub Leipzig e.V. //NONSGML Events //EN
CALSCALE:GREGORIAN
X-WR-CALNAME:Jazzclub Leipzig e.V.
BEGIN:VEVENT
X-CREATED:20240429T125126Z
UID:32411
DTEND;VALUE=DATE:20240504T220000
DTSTART;VALUE=DATE:20240504T200000
DTSTAMP:20260425T035022Z
LOCATION:Horns Erben
DESCRIPTION:Getreu dem Motto »weniger ist mehr« lädt das Duo Midas mit seinem melodischen wie intimen Indie-Jazz-Sound zum Tagträumen ein · Ida Wutzler (voc), Jeremias Wagler- Wernecke (g) · VVK 9/11€ […]
SUMMARY:Midas
ORGANIZER:Jazzclub Leipzig e.V.
URL;VALUE=URI:https://www.jazzclub-leipzig.de/kategorie-jazzkalender/midas-2/
TRANSP:OPAQUE
BEGIN:VALARM
ACTION:DISPLAY
TRIGGER;VALUE=DATE-TIME:20240504T190000Z
DESCRIPTION:Erinnerung an Midas
END:VALARM
END:VEVENT
END:VCALENDAR
