BEGIN:VCALENDAR
VERSION:2.0
PRODID:-//Jazzclub Leipzig e.V. //NONSGML Events //EN
CALSCALE:GREGORIAN
X-WR-CALNAME:Jazzclub Leipzig e.V.
BEGIN:VEVENT
X-CREATED:20240429T124701Z
UID:32405
DTEND;VALUE=DATE:20240503T220000
DTSTART;VALUE=DATE:20240503T200000
DTSTAMP:20260425T034452Z
LOCATION:Horns Erben
DESCRIPTION:Hinter dem Pseudonym verbrigt sich der Hamburger Musiker Michel Schröder. In seiner Musik kombiniert er klassische Jazz-Elemente mit elektronischen Beats und Synthesizer-Sounds. Zuletzt erschien 2023 sein Album »Shortcuts«. In seiner […]
SUMMARY:Rōkost
ORGANIZER:Jazzclub Leipzig e.V.
URL;VALUE=URI:https://www.jazzclub-leipzig.de/kategorie-jazzkalender/rokost/
TRANSP:OPAQUE
BEGIN:VALARM
ACTION:DISPLAY
TRIGGER;VALUE=DATE-TIME:20240503T190000Z
DESCRIPTION:Erinnerung an Rōkost
END:VALARM
END:VEVENT
END:VCALENDAR
