BEGIN:VCALENDAR
VERSION:2.0
PRODID:-//Jazzclub Leipzig e.V. //NONSGML Events //EN
CALSCALE:GREGORIAN
X-WR-CALNAME:Jazzclub Leipzig e.V.
BEGIN:VEVENT
X-CREATED:20240429T124400Z
UID:32401
DTEND;VALUE=DATE:20240503T220000
DTSTART;VALUE=DATE:20240503T200000
DTSTAMP:20260425T034940Z
LOCATION:Leipzig
DESCRIPTION:Für ihre 24. Festivalausgabe präsentiert das a cappella Weltikonen und Newcomer*innen gleichermaßen. Mit dem Shemesh Quartet aus Mexico und Acapellago aus den Philippinen wartet die Festivalleitung in diesem Jahr außerdem […]
SUMMARY:a cappella – Internationales Festival für Vokalmusik (3.-11.5.)
ORGANIZER:Jazzclub Leipzig e.V.
URL;VALUE=URI:https://www.jazzclub-leipzig.de/kategorie-jazzkalender/a-cappella-internationales-festival-fuer-vokalmusik-3-11-5/
TRANSP:OPAQUE
BEGIN:VALARM
ACTION:DISPLAY
TRIGGER;VALUE=DATE-TIME:20240503T190000Z
DESCRIPTION:Erinnerung an a cappella – Internationales Festival für Vokalmusik (3.-11.5.)
END:VALARM
END:VEVENT
END:VCALENDAR
