BEGIN:VCALENDAR
VERSION:2.0
PRODID:-//Jazzclub Leipzig e.V. //NONSGML Events //EN
CALSCALE:GREGORIAN
X-WR-CALNAME:Jazzclub Leipzig e.V.
BEGIN:VEVENT
X-CREATED:20240429T123813Z
UID:32390
DTEND;VALUE=DATE:20240502T213000
DTSTART;VALUE=DATE:20240502T193000
DTSTAMP:20260425T035114Z
LOCATION:Horns Erben
DESCRIPTION:Jeden Donnerstag findet die Jazzsession im Horns Erben statt · Session-Opener: Löbner/Hentschel/Krön/Obleser/Schuster · Eintritt frei
SUMMARY:horns[dʒæz]Session – Young Artists in Concert
ORGANIZER:Jazzclub Leipzig e.V.
URL;VALUE=URI:https://www.jazzclub-leipzig.de/kategorie-jazzkalender/hornsd%ca%92aezsession-young-artists-in-concert-12/
TRANSP:OPAQUE
BEGIN:VALARM
ACTION:DISPLAY
TRIGGER;VALUE=DATE-TIME:20240502T183000Z
DESCRIPTION:Erinnerung an horns[dʒæz]Session – Young Artists in Concert
END:VALARM
END:VEVENT
END:VCALENDAR
