BEGIN:VCALENDAR
VERSION:2.0
PRODID:-//Jazzclub Leipzig e.V. //NONSGML Events //EN
CALSCALE:GREGORIAN
X-WR-CALNAME:Jazzclub Leipzig e.V.
BEGIN:VEVENT
X-CREATED:20240429T123544Z
UID:32386
DTEND;VALUE=DATE:20240501T220000
DTSTART;VALUE=DATE:20240501T200000
DTSTAMP:20260425T035116Z
LOCATION:Neues Schauspiel Leipzig
DESCRIPTION:Wie gewohnt startet um 20 Uhr der Künstler*innen-Stammtisch (Netzwerktreffen). Um 21:30 Uhr spielt eine Opener-Band, bevor es im Anschluss heißt: Bühne frei für alle, die Lust auf Musikmachen haben! · […]
SUMMARY:15. LeipJAZZig-Session im NSL
ORGANIZER:Jazzclub Leipzig e.V.
URL;VALUE=URI:https://www.jazzclub-leipzig.de/kategorie-jazzkalender/15-leipjazzig-session-im-nsl/
TRANSP:OPAQUE
BEGIN:VALARM
ACTION:DISPLAY
TRIGGER;VALUE=DATE-TIME:20240501T190000Z
DESCRIPTION:Erinnerung an 15. LeipJAZZig-Session im NSL
END:VALARM
END:VEVENT
END:VCALENDAR
