BEGIN:VCALENDAR
VERSION:2.0
PRODID:-//Jazzclub Leipzig e.V. //NONSGML Events //EN
CALSCALE:GREGORIAN
X-WR-CALNAME:Jazzclub Leipzig e.V.
BEGIN:VEVENT
X-CREATED:20240321T155336Z
UID:32352
DTEND;VALUE=DATE:20240417T220000
DTSTART;VALUE=DATE:20240417T200000
DTSTAMP:20260425T035126Z
LOCATION:UT Connewitz
DESCRIPTION:2018 noch hat Barbara Morgenstern »Unschuld und Verwüstung« hinterlassen – so zumindest lautete der Titel des in dem Jahr erschienenen Albums. Im Januar nun folgte mit »In anderem Licht« der mittlerweile 10. Longplayer ihrer Karriere.
SUMMARY:Barbara Morgenstern
ORGANIZER:Jazzclub Leipzig e.V.
URL;VALUE=URI:https://www.jazzclub-leipzig.de/kategorie-jazzkalender/barbara-morgenstern/
TRANSP:OPAQUE
BEGIN:VALARM
ACTION:DISPLAY
TRIGGER;VALUE=DATE-TIME:20240417T190000Z
DESCRIPTION:Erinnerung an Barbara Morgenstern
END:VALARM
END:VEVENT
END:VCALENDAR
