BEGIN:VCALENDAR
VERSION:2.0
PRODID:-//Jazzclub Leipzig e.V. //NONSGML Events //EN
CALSCALE:GREGORIAN
X-WR-CALNAME:Jazzclub Leipzig e.V.
BEGIN:VEVENT
X-CREATED:20240321T154640Z
UID:32343
DTEND;VALUE=DATE:20240411T150000
DTSTART;VALUE=DATE:20240411T130000
DTSTAMP:20260425T035054Z
LOCATION:Messe Bremen
DESCRIPTION:Die Hansestadt Bremen beherbergt auch dieses Jahr wieder das Must-Go Event der internationalen Jazzszene.
SUMMARY:jazzahead!
ORGANIZER:Jazzclub Leipzig e.V.
URL;VALUE=URI:https://www.jazzclub-leipzig.de/kategorie-jazzkalender/jazzahead-5/
TRANSP:OPAQUE
BEGIN:VALARM
ACTION:DISPLAY
TRIGGER;VALUE=DATE-TIME:20240411T120000Z
DESCRIPTION:Erinnerung an jazzahead!
END:VALARM
END:VEVENT
END:VCALENDAR
