BEGIN:VCALENDAR
VERSION:2.0
PRODID:-//Jazzclub Leipzig e.V. //NONSGML Events //EN
CALSCALE:GREGORIAN
X-WR-CALNAME:Jazzclub Leipzig e.V.
BEGIN:VEVENT
X-CREATED:20240321T120746Z
UID:32327
DTEND;VALUE=DATE:20240429T213000
DTSTART;VALUE=DATE:20240429T193000
DTSTAMP:20260425T035126Z
LOCATION:Laden auf Zeit
DESCRIPTION:Erst kürzlich hat Pablo Tarantino mit »Charnia« sein Debütalbum veröffentlicht. Darauf vereint der Schlagzeuger musikalische Einflüsse, die nicht zuletzt auf sein Studium der modernen Musik, Performance und Komposition in Barcelona, […]
SUMMARY:Pablo Tarantino Quartett
ORGANIZER:Jazzclub Leipzig e.V.
URL;VALUE=URI:https://www.jazzclub-leipzig.de/kategorie-jazzkalender/pablo-tarantino-quartett/
TRANSP:OPAQUE
BEGIN:VALARM
ACTION:DISPLAY
TRIGGER;VALUE=DATE-TIME:20240429T183000Z
DESCRIPTION:Erinnerung an Pablo Tarantino Quartett
END:VALARM
END:VEVENT
END:VCALENDAR
