BEGIN:VCALENDAR
VERSION:2.0
PRODID:-//Jazzclub Leipzig e.V. //NONSGML Events //EN
CALSCALE:GREGORIAN
X-WR-CALNAME:Jazzclub Leipzig e.V.
BEGIN:VEVENT
X-CREATED:20240321T120655Z
UID:32324
DTEND;VALUE=DATE:20240427T213000
DTSTART;VALUE=DATE:20240427T193000
DTSTAMP:20260425T035115Z
LOCATION:Horns Erben
DESCRIPTION:Das Projekt veröffentlichte 2023 ihr Album »Happy Days Are Here Again«, das sechs Jazzstandards aufführt, welche durch die virtosesen Fähigkeiten der Musiker*innen Subtilität, Farbigkeit und Optimismus ausstrahlen • María Esteban […]
SUMMARY:María Esteban Trio
ORGANIZER:Jazzclub Leipzig e.V.
URL;VALUE=URI:https://www.jazzclub-leipzig.de/kategorie-jazzkalender/maria-esteban-trio/
TRANSP:OPAQUE
BEGIN:VALARM
ACTION:DISPLAY
TRIGGER;VALUE=DATE-TIME:20240427T183000Z
DESCRIPTION:Erinnerung an María Esteban Trio
END:VALARM
END:VEVENT
END:VCALENDAR
