BEGIN:VCALENDAR
VERSION:2.0
PRODID:-//Jazzclub Leipzig e.V. //NONSGML Events //EN
CALSCALE:GREGORIAN
X-WR-CALNAME:Jazzclub Leipzig e.V.
BEGIN:VEVENT
X-CREATED:20240321T115741Z
UID:32315
DTEND;VALUE=DATE:20240424T230000
DTSTART;VALUE=DATE:20240424T210000
DTSTAMP:20260425T035252Z
LOCATION:Köln
DESCRIPTION:Die c/o Pop hat mehrfach bewiesen, dass es mehr „als nur ein Musikfestival“ ist. Auch dieses Jahr kann das Publikum wieder „Festivaluntypisches“ ewarten. Was das genau heißt, muss man vor […]
SUMMARY:c/o Pop (24.-28.04.2024)
ORGANIZER:Jazzclub Leipzig e.V.
URL;VALUE=URI:https://www.jazzclub-leipzig.de/kategorie-jazzkalender/c-o-pop-24-28-04-2024/
TRANSP:OPAQUE
BEGIN:VALARM
ACTION:DISPLAY
TRIGGER;VALUE=DATE-TIME:20240424T200000Z
DESCRIPTION:Erinnerung an c/o Pop (24.-28.04.2024)
END:VALARM
END:VEVENT
END:VCALENDAR
