BEGIN:VCALENDAR
VERSION:2.0
PRODID:-//Jazzclub Leipzig e.V. //NONSGML Events //EN
CALSCALE:GREGORIAN
X-WR-CALNAME:Jazzclub Leipzig e.V.
BEGIN:VEVENT
X-CREATED:20240321T115435Z
UID:32312
DTEND;VALUE=DATE:20240418T213000
DTSTART;VALUE=DATE:20240418T193000
DTSTAMP:20260425T034540Z
LOCATION:E-Werk Köln
DESCRIPTION:Neben der Preisvergabe erwartet das Publikum bei der Preisverleihung im Kölner E-Werk Live-Auftritte von der Kölner Saxofonistin Angelika Niescier im Duo mit Alexander Hawkins, dem Omer Klein Trio und der […]
SUMMARY:Deutscher Jazzpreis
ORGANIZER:Jazzclub Leipzig e.V.
URL;VALUE=URI:https://www.jazzclub-leipzig.de/kategorie-jazzkalender/deutscher-jazzpreis/
TRANSP:OPAQUE
BEGIN:VALARM
ACTION:DISPLAY
TRIGGER;VALUE=DATE-TIME:20240418T183000Z
DESCRIPTION:Erinnerung an Deutscher Jazzpreis
END:VALARM
END:VEVENT
END:VCALENDAR
