BEGIN:VCALENDAR
VERSION:2.0
PRODID:-//Jazzclub Leipzig e.V. //NONSGML Events //EN
CALSCALE:GREGORIAN
X-WR-CALNAME:Jazzclub Leipzig e.V.
BEGIN:VEVENT
X-CREATED:20240321T114956Z
UID:32306
DTEND;VALUE=DATE:20240423T220000
DTSTART;VALUE=DATE:20240423T200000
DTSTAMP:20260425T035054Z
LOCATION:Horns Erben
DESCRIPTION:Michael Wollny veröffentlichte 2022 mit seinem internationalen Trio das Album »Ghosts« bei ACT Music. Das Album ist eine Zusammenkunft einiger dieser Geister, die Wollny regelmäßig heimsuchen. Von Klassikern wie Franz […]
SUMMARY:Michael Wollny Trio
ORGANIZER:Jazzclub Leipzig e.V.
URL;VALUE=URI:https://www.jazzclub-leipzig.de/kategorie-jazzkalender/michael-wollny-trio-3/
TRANSP:OPAQUE
BEGIN:VALARM
ACTION:DISPLAY
TRIGGER;VALUE=DATE-TIME:20240423T190000Z
DESCRIPTION:Erinnerung an Michael Wollny Trio
END:VALARM
END:VEVENT
END:VCALENDAR
