BEGIN:VCALENDAR
VERSION:2.0
PRODID:-//Jazzclub Leipzig e.V. //NONSGML Events //EN
CALSCALE:GREGORIAN
X-WR-CALNAME:Jazzclub Leipzig e.V.
BEGIN:VEVENT
X-CREATED:20240321T110824Z
UID:32256
DTEND;VALUE=DATE:20240412T220000
DTSTART;VALUE=DATE:20240412T200000
DTSTAMP:20260422T105942Z
LOCATION:Kulturhof Gholis (Werkcafé)
DESCRIPTION:Der von diversen Preises dekorierte Pianist und seine Bandmitglieder haben bereits zwei Alben bei ACT veröffentlicht. In der Musik des Trios geht es darum, jenseits von Worten Eindrücke der Gegenwart […]
SUMMARY:Vincent Meissner Trio
ORGANIZER:Jazzclub Leipzig e.V.
URL;VALUE=URI:https://www.jazzclub-leipzig.de/kategorie-jazzkalender/vincent-meissner-trio/
TRANSP:OPAQUE
BEGIN:VALARM
ACTION:DISPLAY
TRIGGER;VALUE=DATE-TIME:20240412T190000Z
DESCRIPTION:Erinnerung an Vincent Meissner Trio
END:VALARM
END:VEVENT
END:VCALENDAR
