BEGIN:VCALENDAR
VERSION:2.0
PRODID:-//Jazzclub Leipzig e.V. //NONSGML Events //EN
CALSCALE:GREGORIAN
X-WR-CALNAME:Jazzclub Leipzig e.V.
BEGIN:VEVENT
X-CREATED:20240229T114349Z
UID:32079
DTEND;VALUE=DATE:20240317T200000
DTSTART;VALUE=DATE:20240317T180000
DTSTAMP:20260422T145921Z
LOCATION:WUK Theater Quartier (Halle/Saale)
DESCRIPTION:Diese neue Veranstaltungsreihe in Kooperation mit dem Jazzkollektiv Halle widmet sich dem Zusammenspiel von experimenteller Musik und anderen Kunstformen. Zum Auftakt präsentiert Harald Kimmig sein Solo »HARA«: eine beeindruckende Fusion […]
SUMMARY:UPDATE // Eröffnung Forum Grenzgänge: Harald Kimmig Solo »HARA«
ORGANIZER:Jazzclub Leipzig e.V.
URL;VALUE=URI:https://www.jazzclub-leipzig.de/kategorie-jazzkalender/conny-kanik-band-release-konzert/
TRANSP:OPAQUE
BEGIN:VALARM
ACTION:DISPLAY
TRIGGER;VALUE=DATE-TIME:20240317T170000Z
DESCRIPTION:Erinnerung an UPDATE // Eröffnung Forum Grenzgänge: Harald Kimmig Solo »HARA«
END:VALARM
END:VEVENT
END:VCALENDAR
