BEGIN:VCALENDAR
VERSION:2.0
PRODID:-//Jazzclub Leipzig e.V. //NONSGML Events //EN
CALSCALE:GREGORIAN
X-WR-CALNAME:Jazzclub Leipzig e.V.
BEGIN:VEVENT
X-CREATED:20240229T113147Z
UID:32065
DTEND;VALUE=DATE:20240313T220000
DTSTART;VALUE=DATE:20240313T200000
DTSTAMP:20260425T105837Z
LOCATION:Laden auf Zeit
DESCRIPTION:Niia kollaborierte mit diversen Größen der Musikwelt, darunter mit Jazmine Sullivan, Laura Lee (Khru- angbin), Duke Dumont und Jonathan Wilson. Sie teilte sich Bühnen mit Jorja Smith und The XX. Heute […]
SUMMARY:Niia
ORGANIZER:Jazzclub Leipzig e.V.
URL;VALUE=URI:https://www.jazzclub-leipzig.de/kategorie-jazzkalender/niia/
TRANSP:OPAQUE
BEGIN:VALARM
ACTION:DISPLAY
TRIGGER;VALUE=DATE-TIME:20240313T190000Z
DESCRIPTION:Erinnerung an Niia
END:VALARM
END:VEVENT
END:VCALENDAR
