BEGIN:VCALENDAR
VERSION:2.0
PRODID:-//Jazzclub Leipzig e.V. //NONSGML Events //EN
CALSCALE:GREGORIAN
X-WR-CALNAME:Jazzclub Leipzig e.V.
BEGIN:VEVENT
X-CREATED:20240229T112657Z
UID:32056
DTEND;VALUE=DATE:20240309T220000
DTSTART;VALUE=DATE:20240309T200000
DTSTAMP:20260425T105933Z
LOCATION:Mediencampus Villa Ida
DESCRIPTION:auf neuen Wegen – zum ersten Mal mit Melodieinstrument! Fabian Kallerdahl am Flügel verstärkt die schwedische Jazz-Band bei ihrem diesjährigen Auftritt. Mitreißender Jazz zwischen amerikanischer Tra- dition und schwedischer Folklore, […]
SUMMARY:MAKROSS feat. Fabian Kallerdahl
ORGANIZER:Jazzclub Leipzig e.V.
URL;VALUE=URI:https://www.jazzclub-leipzig.de/kategorie-jazzkalender/makross-feat-fabian-kallerdahl/
TRANSP:OPAQUE
BEGIN:VALARM
ACTION:DISPLAY
TRIGGER;VALUE=DATE-TIME:20240309T190000Z
DESCRIPTION:Erinnerung an MAKROSS feat. Fabian Kallerdahl
END:VALARM
END:VEVENT
END:VCALENDAR
