BEGIN:VCALENDAR
VERSION:2.0
PRODID:-//Jazzclub Leipzig e.V. //NONSGML Events //EN
CALSCALE:GREGORIAN
X-WR-CALNAME:Jazzclub Leipzig e.V.
BEGIN:VEVENT
X-CREATED:20231130T104914Z
UID:31474
DTEND;VALUE=DATE:20240120T223000
DTSTART;VALUE=DATE:20240120T203000
DTSTAMP:20260419T174305Z
LOCATION:die naTo
DESCRIPTION:Die Bigband der Musikhochschule »Felix Mendelssohn Bartholdy« Leipzig wird seit 2001 vom Baritonsaxofonisten, Komponisten und Arrangeur Rolf von Nordenskjöld geleitet.
SUMMARY:Hochschul Bigband »Moments in Time«
ORGANIZER:Jazzclub Leipzig e.V.
URL;VALUE=URI:https://www.jazzclub-leipzig.de/kategorie-jazzclub/hochschule-bigband-moments-in-time/
TRANSP:OPAQUE
BEGIN:VALARM
ACTION:DISPLAY
TRIGGER;VALUE=DATE-TIME:20240120T193000Z
DESCRIPTION:Erinnerung an Hochschul Bigband »Moments in Time«
END:VALARM
END:VEVENT
END:VCALENDAR
