BEGIN:VCALENDAR
VERSION:2.0
PRODID:-//Jazzclub Leipzig e.V. //NONSGML Events //EN
CALSCALE:GREGORIAN
X-WR-CALNAME:Jazzclub Leipzig e.V.
BEGIN:VEVENT
X-CREATED:20231117T110655Z
UID:31311
DTEND;VALUE=DATE:20231216T223000
DTSTART;VALUE=DATE:20231216T203000
DTSTAMP:20260419T172505Z
LOCATION:Die naTo
DESCRIPTION:+++ Aus gesundheitlichen Gründen müssen wir das leider Konzert absagen. Wir informieren Euch, sobald wir einen Ersatztermin gefunden haben. +++; Das Rainald Brederling Quintett formte sich im Sommer 2018 über Kekse und Kaffee in Weimar und ist seitdem auf der Suche nach sich selbst. Beziehungsweise nach Rainald. Der ist nämlich verschwunden – und zwar schon länger.
SUMMARY:+++ CANCELLED+++ Rainald Brederling Quintett
ORGANIZER:Jazzclub Leipzig e.V.
URL;VALUE=URI:https://www.jazzclub-leipzig.de/kategorie-jazzkalender/reinald-brederling-quintett/
TRANSP:OPAQUE
BEGIN:VALARM
ACTION:DISPLAY
TRIGGER;VALUE=DATE-TIME:20231216T193000Z
DESCRIPTION:Erinnerung an +++ CANCELLED+++ Rainald Brederling Quintett
END:VALARM
END:VEVENT
END:VCALENDAR
