BEGIN:VCALENDAR
VERSION:2.0
PRODID:-//Jazzclub Leipzig e.V. //NONSGML Events //EN
CALSCALE:GREGORIAN
X-WR-CALNAME:Jazzclub Leipzig e.V.
BEGIN:VEVENT
X-CREATED:20231117T104823Z
UID:31303
DTEND;VALUE=DATE:20231201T223000
DTSTART;VALUE=DATE:20231201T203000
DTSTAMP:20260419T172626Z
LOCATION:Die naTo
DESCRIPTION:Dieses Trio sprengt die Grenzen des Jazz - und das bereits seit 2010, denn so lange gibt es die Band tatsächlich schon. Seither feilen die drei Berliner an der Kombination verschiedener Klangwelten und reisen musikalisch von Jazz über Klassische Moderne bis hin zu Post- und Prog-Rock und wechseln dabei sogar noch spielerisch zwischen akustischen und elektronischen Klängen.
SUMMARY:Melt Trio
ORGANIZER:Jazzclub Leipzig e.V.
URL;VALUE=URI:https://www.jazzclub-leipzig.de/kategorie-jazzkalender/melt-trio-4/
TRANSP:OPAQUE
BEGIN:VALARM
ACTION:DISPLAY
TRIGGER;VALUE=DATE-TIME:20231201T193000Z
DESCRIPTION:Erinnerung an Melt Trio
END:VALARM
END:VEVENT
END:VCALENDAR
