BEGIN:VCALENDAR
VERSION:2.0
PRODID:-//Jazzclub Leipzig e.V. //NONSGML Events //EN
CALSCALE:GREGORIAN
X-WR-CALNAME:Jazzclub Leipzig e.V.
BEGIN:VEVENT
X-CREATED:20231004T120155Z
UID:30902
DTEND;VALUE=DATE:20231018T180000
DTSTART;VALUE=DATE:20231018T160000
DTSTAMP:20260420T002510Z
LOCATION:Neues Schauspiel Leipzig\, Lützner Str. 29\, 04177 Leipzig
DESCRIPTION:Jazz ist eine Kunstform, die dazu einlädt, sich über sprachliche und kulturelle Unterschiede hinweg in Austausch zu begeben. Dennoch endet dieser erstaunlich häufig, trotz geographischer Nähe, an nationalstaatlichen Grenzen.
SUMMARY:Zur Vernetzung der Deutschen und Polnischen Jazzszene. Ein Gesprächsformat.
ORGANIZER:Jazzclub Leipzig e.V.
URL;VALUE=URI:https://www.jazzclub-leipzig.de/kategorie-jazzclub/zur-vernetzung-der-deutschen-und-polnischen-jazzszene-ein-gespraechsformat/
TRANSP:OPAQUE
BEGIN:VALARM
ACTION:DISPLAY
TRIGGER;VALUE=DATE-TIME:20231018T150000Z
DESCRIPTION:Erinnerung an Zur Vernetzung der Deutschen und Polnischen Jazzszene. Ein Gesprächsformat.
END:VALARM
END:VEVENT
END:VCALENDAR
