BEGIN:VCALENDAR
VERSION:2.0
PRODID:-//Jazzclub Leipzig e.V. //NONSGML Events //EN
CALSCALE:GREGORIAN
X-WR-CALNAME:Jazzclub Leipzig e.V.
BEGIN:VEVENT
X-CREATED:20231002T123524Z
UID:30880
DTEND;VALUE=DATE:20240119T220000
DTSTART;VALUE=DATE:20240119T200000
DTSTAMP:20260422T092705Z
LOCATION:Kulturhof Gohlis\, Eisenacher Str. 72\, 04155 Leipzig
DESCRIPTION:Nachholtermin gefunden: Das Flashback Konzert #34 findet am 19.Januar 2024 statt!
SUMMARY:FLASHBACK#34: GRACHAN MONCUR (by Demel/Fröhlich/Hübner/Reznichenko/Thönes)
ORGANIZER:Jazzclub Leipzig e.V.
URL;VALUE=URI:https://www.jazzclub-leipzig.de/kategorie-jazzclub/flashback34-grachan-moncur-by-demel-froehlich-huebner-reznichenko-thoenes/
TRANSP:OPAQUE
BEGIN:VALARM
ACTION:DISPLAY
TRIGGER;VALUE=DATE-TIME:20240119T190000Z
DESCRIPTION:Erinnerung an FLASHBACK#34: GRACHAN MONCUR (by Demel/Fröhlich/Hübner/Reznichenko/Thönes)
END:VALARM
END:VEVENT
END:VCALENDAR
