BEGIN:VCALENDAR
VERSION:2.0
PRODID:-//Jazzclub Leipzig e.V. //NONSGML Events //EN
CALSCALE:GREGORIAN
X-WR-CALNAME:Jazzclub Leipzig e.V.
BEGIN:VEVENT
X-CREATED:20230914T081731Z
UID:30400
DTEND;VALUE=DATE:20231022T010000
DTSTART;VALUE=DATE:20231021T230000
DTSTAMP:20260420T021346Z
LOCATION:WERK 2 - Kulturfabrik Leipzig e.V.\, Kochstraße 132\, 04277 Leipzig
DESCRIPTION:Triplekonzert mit GORZ und HJIROK - „Tanzen schaltet meinen Kopf aus“ sagt Marie Tjong-Ayong. Und genau dieses Gefühl wollen wir unserem Publikum nach einer sitzlastigen Festivalwoche vermitteln. Als Closing Act der Leipziger Jazztage verwöhnt uns die Berlinerin mit einem vinylbasierten DJ-Set, das sich zwischen futuristischem UK Drum ‘n‘ Bass, Breakbeat und percussive tribal polyrythmic Techno bewegt.
SUMMARY:Marie Tjong-Ayong DJ-Set
ORGANIZER:Jazzclub Leipzig e.V.
URL;VALUE=URI:https://www.jazzclub-leipzig.de/kategorie-jazzclub/marie-tjong-ayong-dj-set-2/
TRANSP:OPAQUE
BEGIN:VALARM
ACTION:DISPLAY
TRIGGER;VALUE=DATE-TIME:20231021T220000Z
DESCRIPTION:Erinnerung an Marie Tjong-Ayong DJ-Set
END:VALARM
END:VEVENT
END:VCALENDAR
