BEGIN:VCALENDAR
VERSION:2.0
PRODID:-//Jazzclub Leipzig e.V. //NONSGML Events //EN
CALSCALE:GREGORIAN
X-WR-CALNAME:Jazzclub Leipzig e.V.
BEGIN:VEVENT
X-CREATED:20230914T080507Z
UID:30383
DTEND;VALUE=DATE:20231022T010000
DTSTART;VALUE=DATE:20231021T230000
DTSTAMP:20260420T002510Z
LOCATION:WERK 2 - Kulturfabrik Leipzig e.V.\, Kochstraße 132\, 04277 Leipzig
DESCRIPTION:Triplekonzert mit HJIROK und einem DJ-Set von MARIE TJONG-AYONG - GORZ ist eine innovative musikalische Formation, bestehend aus der argentinisch-deutschen Sängerin Lara Alarcón und dem Schweizer Cyrill Ferrari an der Gitarre und einer Drum-Machine.
SUMMARY:GORZ
ORGANIZER:Jazzclub Leipzig e.V.
URL;VALUE=URI:https://www.jazzclub-leipzig.de/kategorie-jazzclub/gorz/
TRANSP:OPAQUE
BEGIN:VALARM
ACTION:DISPLAY
TRIGGER;VALUE=DATE-TIME:20231021T220000Z
DESCRIPTION:Erinnerung an GORZ
END:VALARM
END:VEVENT
END:VCALENDAR
