BEGIN:VCALENDAR
VERSION:2.0
PRODID:-//Jazzclub Leipzig e.V. //NONSGML Events //EN
CALSCALE:GREGORIAN
X-WR-CALNAME:Jazzclub Leipzig e.V.
BEGIN:VEVENT
X-CREATED:20230914T075526Z
UID:30376
DTEND;VALUE=DATE:20231020T203000
DTSTART;VALUE=DATE:20231020T183000
DTSTAMP:20260420T021327Z
LOCATION:UT Connewitz\, Wolfgang-Heinze-Straße 12 a\, 04277 Leipzig
DESCRIPTION:Doppelkonzert mit CAMILLE ÉMAILLE - Die Sängerin Mariana Sadovska macht seit Jahrzehnten Feldaufnahmen in ukrainischen Dörfern, sammelt vergessene Lieder und Gesangstechniken. Im Rahmen dieses besonderen Konzertprojektes sind ihre Aufnahmen in einen kompositorischen Dialog zwischen Sadovska und dem Komponisten und Perkussionisten Max Andrzejewski geflossen. »Max hat die Seele dieser Lieder gefunden«, sagt Sadovska über seinen Umgang mit den Songs.
SUMMARY:Outernational Songs of Wounding – Mariana Sadovska, Max Andrzejewski, Trio Kurbasy & Ensemble
ORGANIZER:Jazzclub Leipzig e.V.
URL;VALUE=URI:https://www.jazzclub-leipzig.de/kategorie-jazzclub/outernational-songs-of-woundingmariana-sadovska-max-andrzejewski-trio-kurbasy-ensemble/
TRANSP:OPAQUE
BEGIN:VALARM
ACTION:DISPLAY
TRIGGER;VALUE=DATE-TIME:20231020T173000Z
DESCRIPTION:Erinnerung an Outernational Songs of Wounding &#8211\; Mariana Sadovska\, Max Andrzejewski\, Trio Kurbasy &#038\; Ensemble
END:VALARM
END:VEVENT
END:VCALENDAR
