BEGIN:VCALENDAR
VERSION:2.0
PRODID:-//Jazzclub Leipzig e.V. //NONSGML Events //EN
CALSCALE:GREGORIAN
X-WR-CALNAME:Jazzclub Leipzig e.V.
BEGIN:VEVENT
X-CREATED:20230914T075151Z
UID:30370
DTEND;VALUE=DATE:20231020T203000
DTSTART;VALUE=DATE:20231020T183000
DTSTAMP:20260420T021429Z
LOCATION:UT Connewitz\, Wolfgang-Heinze-Straße 12 a\, 04277 Leipzig
DESCRIPTION:Doppelkonzert mit OUTERNATIONAL SONGS OF WOUNDING - Ein Knattern. Ein Zerren. Ein Quietschen. Sounds, die sich nur unzureichend beschreiben lassen. Dann perkussive Elemente und Rhythmen, die auf den zweiten Blick doch keine mehr zu sein scheinen. Camille Émaille ist eine dieser außergewöhnlichen Künstler*innen, die sich von den herkömmlichen Grenzen der Klangerzeugung befreien und neue Horizonte erkunden. Sie betrachtet die Musikpraxis als festen Bestandteil der Welt, des Lebens, des Alltags.
SUMMARY:Camille Émaille Solo
ORGANIZER:Jazzclub Leipzig e.V.
URL;VALUE=URI:https://www.jazzclub-leipzig.de/kategorie-jazzclub/camille-emaille-solo/
TRANSP:OPAQUE
BEGIN:VALARM
ACTION:DISPLAY
TRIGGER;VALUE=DATE-TIME:20231020T173000Z
DESCRIPTION:Erinnerung an Camille Émaille Solo
END:VALARM
END:VEVENT
END:VCALENDAR
