BEGIN:VCALENDAR
VERSION:2.0
PRODID:-//Jazzclub Leipzig e.V. //NONSGML Events //EN
CALSCALE:GREGORIAN
X-WR-CALNAME:Jazzclub Leipzig e.V.
BEGIN:VEVENT
X-CREATED:20230914T072853Z
UID:30362
DTEND;VALUE=DATE:20231019T233000
DTSTART;VALUE=DATE:20231019T213000
DTSTAMP:20260420T021348Z
LOCATION:Schaubühne Lindenfels\, Karl-Heine-Straße 50 \, 04229 Leipzig
DESCRIPTION:Doppelkonzert mit MAX STADTFELD: STAX - Zusammen sind Kilonzo und Gīw SUM, ein Performance-Duo, wie auch eine Plattform für Film- und Medienkunst-Kollaborationen. Die sich konstant verändernde Performance der beiden bestens aufeinander eingestellten Protagonisten, lässt Improvisation als Quelle von Bedeutung wirken – verschwimmende Rollen und Zustände voller Beat, wummernden Feedback und Nahaufnahmen laden ein zum Abtriften. Ein fesselndes urbanes Improvisationsritual. 
SUMMARY:SUM
ORGANIZER:Jazzclub Leipzig e.V.
URL;VALUE=URI:https://www.jazzclub-leipzig.de/kategorie-jazzclub/sum/
TRANSP:OPAQUE
BEGIN:VALARM
ACTION:DISPLAY
TRIGGER;VALUE=DATE-TIME:20231019T203000Z
DESCRIPTION:Erinnerung an SUM
END:VALARM
END:VEVENT
END:VCALENDAR
