BEGIN:VCALENDAR
VERSION:2.0
PRODID:-//Jazzclub Leipzig e.V. //NONSGML Events //EN
CALSCALE:GREGORIAN
X-WR-CALNAME:Jazzclub Leipzig e.V.
BEGIN:VEVENT
X-CREATED:20230914T071951Z
UID:30352
DTEND;VALUE=DATE:20231019T220000
DTSTART;VALUE=DATE:20231019T200000
DTSTAMP:20260420T002451Z
LOCATION:Peterskirche\, Schletterstraße 5\, 04107 Leipzig
DESCRIPTION:Der größte und älteste Rundfunkchor der ARD erarbeitet einmal mehr eine Produktion in Kooperation mit den Leipziger Jazztagen: Auf dem Festival werden Stücke uraufgeführt, die von den drei in Köln lebenden Jazzmusiker*innen Florian Ross, Andreas Theobald und Theresia Philipp eigens für das Vokalensemble komponiert werden.
SUMMARY:MDR-Rundfunkchor »A kind of … Choral Music« – Uraufführungen von Florian Ross, Andreas Theobald und Theresia Philipp
ORGANIZER:Jazzclub Leipzig e.V.
URL;VALUE=URI:https://www.jazzclub-leipzig.de/kategorie-jazzclub/mdr-rundfunkchor-a-kind-of-choral-music-urauffuehrungen-von-florian-ross-andreas-theobald-und-theresia-philipp/
TRANSP:OPAQUE
BEGIN:VALARM
ACTION:DISPLAY
TRIGGER;VALUE=DATE-TIME:20231019T190000Z
DESCRIPTION:Erinnerung an MDR-Rundfunkchor »A kind of … Choral Music« &#8211\; Uraufführungen von Florian Ross\, Andreas Theobald und Theresia Philipp
END:VALARM
END:VEVENT
END:VCALENDAR
