BEGIN:VCALENDAR
VERSION:2.0
PRODID:-//Jazzclub Leipzig e.V. //NONSGML Events //EN
CALSCALE:GREGORIAN
X-WR-CALNAME:Jazzclub Leipzig e.V.
BEGIN:VEVENT
X-CREATED:20230914T070309Z
UID:30346
DTEND;VALUE=DATE:20231019T200000
DTSTART;VALUE=DATE:20231019T180000
DTSTAMP:20260420T002511Z
LOCATION:die naTo \, Karl-Liebknecht-Str. 48\, 04275 Leipzig 
DESCRIPTION:Es ist ein schönes Gefühl, wenn Gutes bleibt: Seit unserer 44. Festivalausgabe findet die Kooperation zwischen den Leipziger Jazztagen und dem im Südtirol Jazzfestival Alto Adige verankerten Projekt »Euregio Collective« statt. Das Projekt vereint Musiker*innen aus Trentino, Südtirol und Tirol. So entsteht ein synergetischer Austausch der jeweiligen Regionen, Projekte und Musikszenen. In diesem Jahr trifft der in Leipzig wohnende Schlagzeuger Daniel Klein auf den in Trentino wohnenden Vibraphonisten Mirko Pedrotti.
SUMMARY:First Date: Mirko Pedrotti + Daniel Klein
ORGANIZER:Jazzclub Leipzig e.V.
URL;VALUE=URI:https://www.jazzclub-leipzig.de/kategorie-jazzclub/first-date-mirko-pedrotti-daniel-klein/
TRANSP:OPAQUE
BEGIN:VALARM
ACTION:DISPLAY
TRIGGER;VALUE=DATE-TIME:20231019T170000Z
DESCRIPTION:Erinnerung an First Date: Mirko Pedrotti + Daniel Klein
END:VALARM
END:VEVENT
END:VCALENDAR
