BEGIN:VCALENDAR
VERSION:2.0
PRODID:-//Jazzclub Leipzig e.V. //NONSGML Events //EN
CALSCALE:GREGORIAN
X-WR-CALNAME:Jazzclub Leipzig e.V.
BEGIN:VEVENT
X-CREATED:20230914T063542Z
UID:30327
DTEND;VALUE=DATE:20231017T230000
DTSTART;VALUE=DATE:20231017T210000
DTSTAMP:20260420T020019Z
LOCATION:UT Connewitz\, Wolfgang-Heinze-Straße 12 a\, 04277 Leipzig
DESCRIPTION:Doppelkonzert mit ROHRER/LODERBAUER/WESTERHUS/FREUND »KAVE« - Die polnische Pianistin verbindet in ihrem Ensemble akustische Instrumente mit elektronischen Klängen und selbst erstellten Samples. Die Essenz dieser Musik liegt in einer konsequenten Form der Improvisation, bei der die Betonung auf bewegten, rhythmischen und unregelmäßigen Motiven liegt, die als eigenständige Entitäten für sich stehen. Diese Motive verschmelzen zu einem Ganzen und suchen in jedem Augenblick nach einem kollektiven Bewusstsein.
SUMMARY:Joanna Duda Trio
ORGANIZER:Jazzclub Leipzig e.V.
URL;VALUE=URI:https://www.jazzclub-leipzig.de/kategorie-jazzclub/joanna-duda-trio/
TRANSP:OPAQUE
BEGIN:VALARM
ACTION:DISPLAY
TRIGGER;VALUE=DATE-TIME:20231017T200000Z
DESCRIPTION:Erinnerung an Joanna Duda Trio
END:VALARM
END:VEVENT
END:VCALENDAR
