BEGIN:VCALENDAR
VERSION:2.0
PRODID:-//Jazzclub Leipzig e.V. //NONSGML Events //EN
CALSCALE:GREGORIAN
X-WR-CALNAME:Jazzclub Leipzig e.V.
BEGIN:VEVENT
X-CREATED:20230914T062329Z
UID:30316
DTEND;VALUE=DATE:20231016T223000
DTSTART;VALUE=DATE:20231016T203000
DTSTAMP:20260422T105950Z
LOCATION:UT Connewitz\, Wolfgang-Heinze-Straße 12 a\, 04277 Leipzig
DESCRIPTION:Doppelkonzert mit NANCELOT - London-Sound mit ungewöhnlicher Besetzung! Tom Skinner war in den letzten 20 Jahren eine wichtige und zentrale Figur der Underground-Musikszene Londons. Als etablierte Größe spielte er u.a. mit »Sons of Kemet« und bildete mit den beiden Radiohead-Musikern Thom Yorke und Jonny Greenwood die Rockband »The Smile«.
SUMMARY:Tom Skinner »Voices of Bishara«
ORGANIZER:Jazzclub Leipzig e.V.
URL;VALUE=URI:https://www.jazzclub-leipzig.de/kategorie-jazzclub/jazzclub-termine/tom-skinner-voices-of-bishara/
TRANSP:OPAQUE
BEGIN:VALARM
ACTION:DISPLAY
TRIGGER;VALUE=DATE-TIME:20231016T193000Z
DESCRIPTION:Erinnerung an Tom Skinner »Voices of Bishara«
END:VALARM
END:VEVENT
END:VCALENDAR
